BEGIN:VCALENDAR
VERSION:2.0
PRODID:-//Heaton History Group - ECPv6.15.17.1//NONSGML v1.0//EN
CALSCALE:GREGORIAN
METHOD:PUBLISH
X-ORIGINAL-URL:https://heatonhistorygroup.org
X-WR-CALDESC:Events for Heaton History Group
REFRESH-INTERVAL;VALUE=DURATION:PT1H
X-Robots-Tag:noindex
X-PUBLISHED-TTL:PT1H
BEGIN:VTIMEZONE
TZID:Europe/London
BEGIN:DAYLIGHT
TZOFFSETFROM:+0000
TZOFFSETTO:+0100
TZNAME:BST
DTSTART:20240331T010000
END:DAYLIGHT
BEGIN:STANDARD
TZOFFSETFROM:+0100
TZOFFSETTO:+0000
TZNAME:GMT
DTSTART:20241027T010000
END:STANDARD
BEGIN:DAYLIGHT
TZOFFSETFROM:+0000
TZOFFSETTO:+0100
TZNAME:BST
DTSTART:20250330T010000
END:DAYLIGHT
BEGIN:STANDARD
TZOFFSETFROM:+0100
TZOFFSETTO:+0000
TZNAME:GMT
DTSTART:20251026T010000
END:STANDARD
BEGIN:DAYLIGHT
TZOFFSETFROM:+0000
TZOFFSETTO:+0100
TZNAME:BST
DTSTART:20260329T010000
END:DAYLIGHT
BEGIN:STANDARD
TZOFFSETFROM:+0100
TZOFFSETTO:+0000
TZNAME:GMT
DTSTART:20261025T010000
END:STANDARD
END:VTIMEZONE
BEGIN:VEVENT
DTSTART;VALUE=DATE:20250722
DTEND;VALUE=DATE:20250723
DTSTAMP:20260424T111241
CREATED:20230508T160404Z
LAST-MODIFIED:20230508T160404Z
UID:10000151-1753142400-1753228799@heatonhistorygroup.org
SUMMARY:2012 Gabon national football team played Heaton Stannington
DESCRIPTION:2012 Gabon national football team played Heaton Stannington
URL:https://heatonhistorygroup.org/event/2012-gabon-national-football-team-played-heaton-stannington/2025-07-22/
END:VEVENT
BEGIN:VEVENT
DTSTART;VALUE=DATE:20250728
DTEND;VALUE=DATE:20250729
DTSTAMP:20260424T111241
CREATED:20230525T152132Z
LAST-MODIFIED:20230619T151610Z
UID:10000244-1753660800-1753747199@heatonhistorygroup.org
SUMMARY:1966 Gladstone Adams\, inventor and photographer\, died
DESCRIPTION:1966 Gladstone Adams\, inventor and photographer\, died \n 
URL:https://heatonhistorygroup.org/event/1966-gladstone-adams-inventor-and-photographer-died/2025-07-28/
END:VEVENT
BEGIN:VEVENT
DTSTART;VALUE=DATE:20250805
DTEND;VALUE=DATE:20250806
DTSTAMP:20260424T111241
CREATED:20230619T144737Z
LAST-MODIFIED:20230619T151726Z
UID:10000308-1754352000-1754438399@heatonhistorygroup.org
SUMMARY:2008 Neil Bartlett\, chemist\, died
DESCRIPTION:2008 Neil Bartlett\, chemist\, died
URL:https://heatonhistorygroup.org/event/2008-neil-bartlett-chemist-died/2025-08-05/
END:VEVENT
BEGIN:VEVENT
DTSTART;VALUE=DATE:20250807
DTEND;VALUE=DATE:20250808
DTSTAMP:20260424T111241
CREATED:20230619T141924Z
LAST-MODIFIED:20230619T141924Z
UID:10000271-1754524800-1754611199@heatonhistorygroup.org
SUMMARY:1995 Heaton's Jonathan Edwards set a Triple Jump World Record of 18.29m
DESCRIPTION:1995 Heaton’s Jonathan Edwards set a Triple Jump World Record of 18.29m
URL:https://heatonhistorygroup.org/event/1995-heatons-jonathan-edwards-set-a-triple-jump-world-record-of-18-29m/2025-08-07/
END:VEVENT
BEGIN:VEVENT
DTSTART;VALUE=DATE:20250809
DTEND;VALUE=DATE:20250810
DTSTAMP:20260424T111241
CREATED:20230715T123406Z
LAST-MODIFIED:20230715T132025Z
UID:10000476-1754697600-1754783999@heatonhistorygroup.org
SUMMARY:1921 James Douglas Edgar\, golfer\, died
DESCRIPTION:1921 James Douglas Edgar\, golfer\, died
URL:https://heatonhistorygroup.org/event/james-douglas-edgar-golfer-died/2025-08-09/
END:VEVENT
BEGIN:VEVENT
DTSTART;VALUE=DATE:20250810
DTEND;VALUE=DATE:20250811
DTSTAMP:20260424T111241
CREATED:20230619T142157Z
LAST-MODIFIED:20230619T142157Z
UID:10000276-1754784000-1754870399@heatonhistorygroup.org
SUMMARY:1910 John Dickman was hanged for the murder of John Innes Nisbet
DESCRIPTION:1910 John Dickman was hanged for the murder of John Innes Nisbet
URL:https://heatonhistorygroup.org/event/1910-john-dickman-was-hanged-for-the-murder-of-john-innes-nisbet/2025-08-10/
END:VEVENT
BEGIN:VEVENT
DTSTART;VALUE=DATE:20250812
DTEND;VALUE=DATE:20250813
DTSTAMP:20260424T111241
CREATED:20230619T142530Z
LAST-MODIFIED:20230619T152239Z
UID:10000287-1754956800-1755043199@heatonhistorygroup.org
SUMMARY:1949 Samuel Smith\, co-founder of Ringtons\, died
DESCRIPTION:1949 Samuel Smith\, co-founder of Ringtons\, died
URL:https://heatonhistorygroup.org/event/1949-samuel-smith-co-founder-of-ringtons-died/2025-08-12/
END:VEVENT
BEGIN:VEVENT
DTSTART;VALUE=DATE:20250814
DTEND;VALUE=DATE:20250815
DTSTAMP:20260424T111241
CREATED:20230904T110519Z
LAST-MODIFIED:20230904T110519Z
UID:10001513-1755129600-1755215999@heatonhistorygroup.org
SUMMARY:1737 Charles Hutton\, mathematician\, born
DESCRIPTION:1737 Charles Hutton\, mathematician\, born
URL:https://heatonhistorygroup.org/event/1737-charles-hutton-mathematician-born/2025-08-14/
END:VEVENT
BEGIN:VEVENT
DTSTART;VALUE=DATE:20250815
DTEND;VALUE=DATE:20250816
DTSTAMP:20260424T111241
CREATED:20230508T155259Z
LAST-MODIFIED:20230508T155259Z
UID:10000141-1755216000-1755302399@heatonhistorygroup.org
SUMMARY:1915 Jack Common born
DESCRIPTION:1915 Jack Common born
URL:https://heatonhistorygroup.org/event/1915-jack-common-born/2025-08-15/
END:VEVENT
BEGIN:VEVENT
DTSTART;VALUE=DATE:20250820
DTEND;VALUE=DATE:20250821
DTSTAMP:20260424T111241
CREATED:20230506T102721Z
LAST-MODIFIED:20230619T152605Z
UID:10000059-1755648000-1755734399@heatonhistorygroup.org
SUMMARY:1884 Jesmond Dene officially opened
DESCRIPTION:1884 Jesmond Dene officially opened
URL:https://heatonhistorygroup.org/event/1884-jesmond-dene-officially-opened/2025-08-20/
END:VEVENT
BEGIN:VEVENT
DTSTART;VALUE=DATE:20250821
DTEND;VALUE=DATE:20250822
DTSTAMP:20260424T111241
CREATED:20230715T130703Z
LAST-MODIFIED:20230715T130703Z
UID:10001235-1755734400-1755820799@heatonhistorygroup.org
SUMMARY:1956 Julia Darling\, writer\, born
DESCRIPTION:1956 Julia Darling\, writer\, born
URL:https://heatonhistorygroup.org/event/julia-darling-writer-born-2-2/2025-08-21/
END:VEVENT
BEGIN:VEVENT
DTSTART;VALUE=DATE:20250821
DTEND;VALUE=DATE:20250822
DTSTAMP:20260424T111241
CREATED:20230715T130847Z
LAST-MODIFIED:20230715T130914Z
UID:10001245-1755734400-1755820799@heatonhistorygroup.org
SUMMARY:1956 Julia Darling\, writer\, born
DESCRIPTION:1956 Julia Darling\, writer\, born
URL:https://heatonhistorygroup.org/event/julia-darling-writer-born-2-3/2025-08-21/
END:VEVENT
BEGIN:VEVENT
DTSTART;VALUE=DATE:20250825
DTEND;VALUE=DATE:20250826
DTSTAMP:20260424T111241
CREATED:20230619T143105Z
LAST-MODIFIED:20230619T152027Z
UID:10000298-1756080000-1756166399@heatonhistorygroup.org
SUMMARY:2000 Heaton's Jonathan Edwards won Triple Jump Olympic Gold
DESCRIPTION:2000 Heaton’s Jonathan Edwards won Triple Jump Olympic Gold
URL:https://heatonhistorygroup.org/event/2000-heatons-jonathan-edwards-won-triple-jump-olympic-gold/2025-08-25/
END:VEVENT
BEGIN:VEVENT
DTSTART;VALUE=DATE:20250826
DTEND;VALUE=DATE:20250827
DTSTAMP:20260424T111241
CREATED:20230619T143214Z
LAST-MODIFIED:20230619T152844Z
UID:10000303-1756166400-1756252799@heatonhistorygroup.org
SUMMARY:1938 Colin Veitch\, footballer\, actor\, politician\, died
DESCRIPTION:1938 Colin Veitch\, footballer\, actor\, politician\, died
URL:https://heatonhistorygroup.org/event/1938-colin-veitch-died/2025-08-26/
END:VEVENT
BEGIN:VEVENT
DTSTART;VALUE=DATE:20250908
DTEND;VALUE=DATE:20250909
DTSTAMP:20260424T111241
CREATED:20230904T105718Z
LAST-MODIFIED:20230904T105718Z
UID:10001497-1757289600-1757375999@heatonhistorygroup.org
SUMMARY:1948 Florence Nightingale Harrison-Bell\, social reformer and campaigner\, died
DESCRIPTION:1948 Florence Nightingale Harrison-Bell\, social reformer and campaigner\, died
URL:https://heatonhistorygroup.org/event/1948-florence-nightingale-harrison-bell-social-reformer-and-campaigner-died/2025-09-08/
END:VEVENT
BEGIN:VEVENT
DTSTART;VALUE=DATE:20250915
DTEND;VALUE=DATE:20250916
DTSTAMP:20260424T111241
CREATED:20230619T144939Z
LAST-MODIFIED:20230619T144939Z
UID:10000313-1757894400-1757980799@heatonhistorygroup.org
SUMMARY:1932 Neil Bartlett\, chemist\, born
DESCRIPTION:1932 Neil Bartlett\, chemist\, born
URL:https://heatonhistorygroup.org/event/1932-neil-bartlett-chemist-born/2025-09-15/
END:VEVENT
BEGIN:VEVENT
DTSTART;VALUE=DATE:20250918
DTEND;VALUE=DATE:20250919
DTSTAMP:20260424T111241
CREATED:20230506T103211Z
LAST-MODIFIED:20230507T114054Z
UID:10000075-1758153600-1758239999@heatonhistorygroup.org
SUMMARY:1928 Heaton Secondary Schools opened
DESCRIPTION:1928 Heaton Secondary Schools opened
URL:https://heatonhistorygroup.org/event/1928-heaton-secondary-schools-opened/2025-09-18/
END:VEVENT
BEGIN:VEVENT
DTSTART;VALUE=DATE:20250918
DTEND;VALUE=DATE:20250919
DTSTAMP:20260424T111241
CREATED:20230506T103352Z
LAST-MODIFIED:20230507T113936Z
UID:10000080-1758153600-1758239999@heatonhistorygroup.org
SUMMARY:1901 HMS Cobra sank
DESCRIPTION:1901 HMS Cobra sank
URL:https://heatonhistorygroup.org/event/1901-hms-cobra-sank/2025-09-18/
END:VEVENT
BEGIN:VEVENT
DTSTART;VALUE=DATE:20250924
DTEND;VALUE=DATE:20250925
DTSTAMP:20260424T111241
CREATED:20230506T103036Z
LAST-MODIFIED:20230507T113745Z
UID:10000070-1758672000-1758758399@heatonhistorygroup.org
SUMMARY:2000 Jonathan Edwards won Olympic gold
DESCRIPTION:2000 Jonathan Edwards won Olympic gold
URL:https://heatonhistorygroup.org/event/2000-jonathan-edwards-won-olympic-gold/2025-09-24/
END:VEVENT
BEGIN:VEVENT
DTSTART;VALUE=DATE:20250930
DTEND;VALUE=DATE:20251001
DTSTAMP:20260424T111241
CREATED:20230715T123604Z
LAST-MODIFIED:20230715T130545Z
UID:10000621-1759190400-1759276799@heatonhistorygroup.org
SUMMARY:1885 James Douglas Edgar\, golfer\, born
DESCRIPTION:1885 James Douglas Edgar\, golfer\, born
URL:https://heatonhistorygroup.org/event/james-douglas-edgar-golfer-born/2025-09-30/
END:VEVENT
BEGIN:VEVENT
DTSTART;VALUE=DATE:20251004
DTEND;VALUE=DATE:20251005
DTSTAMP:20260424T111241
CREATED:20250124T144912Z
LAST-MODIFIED:20250124T144912Z
UID:10001573-1759536000-1759622399@heatonhistorygroup.org
SUMMARY:1893 Alfred Kingsley Lawrence\, artist\, born
DESCRIPTION:1893 Alfred Kingsley Lawrence\, artist\, born
URL:https://heatonhistorygroup.org/event/1893-alfred-kingsley-lawrence-artist-born/2025-10-04/
END:VEVENT
BEGIN:VEVENT
DTSTART;VALUE=DATE:20251006
DTEND;VALUE=DATE:20251007
DTSTAMP:20260424T111241
CREATED:20230508T160733Z
LAST-MODIFIED:20230508T160733Z
UID:10000156-1759708800-1759795199@heatonhistorygroup.org
SUMMARY:1898 Victoria Library opened
DESCRIPTION:1898 Victoria Library opened
URL:https://heatonhistorygroup.org/event/1898-victoria-library-opened/2025-10-06/
END:VEVENT
BEGIN:VEVENT
DTSTART;VALUE=DATE:20251017
DTEND;VALUE=DATE:20251018
DTSTAMP:20260424T111241
CREATED:20230903T141153Z
LAST-MODIFIED:20230903T144628Z
UID:10001272-1760659200-1760745599@heatonhistorygroup.org
SUMMARY:1913 Suffragettes alleged to have tried to burn down Heaton Station
DESCRIPTION:1913 Suffragettes alleged to have tried to burn down Heaton Station
URL:https://heatonhistorygroup.org/event/1913-suffragettes-alleged-to-have-tried-to-burn-down-heaton-station/2025-10-17/
END:VEVENT
BEGIN:VEVENT
DTSTART;VALUE=DATE:20251019
DTEND;VALUE=DATE:20251020
DTSTAMP:20260424T111241
CREATED:20230903T141447Z
LAST-MODIFIED:20230903T144536Z
UID:10001331-1760832000-1760918399@heatonhistorygroup.org
SUMMARY:1878 Byker Bridge opened to pedestrians
DESCRIPTION:1878 Byker Bridge opened to pedestrians
URL:https://heatonhistorygroup.org/event/1878-byker-bridge-opened-to-pedestrians/2025-10-19/
END:VEVENT
BEGIN:VEVENT
DTSTART;VALUE=DATE:20251111
DTEND;VALUE=DATE:20251112
DTSTAMP:20260424T111241
CREATED:20230903T142112Z
LAST-MODIFIED:20230903T144420Z
UID:10001446-1762819200-1762905599@heatonhistorygroup.org
SUMMARY:1982 Byker Metro Bridge opened
DESCRIPTION:1982 Byker Metro Bridge opened
URL:https://heatonhistorygroup.org/event/1982-byker-metro-bridge-opened/2025-11-11/
END:VEVENT
BEGIN:VEVENT
DTSTART;VALUE=DATE:20251121
DTEND;VALUE=DATE:20251122
DTSTAMP:20260424T111241
CREATED:20230903T144016Z
LAST-MODIFIED:20230903T144208Z
UID:10001482-1763683200-1763769599@heatonhistorygroup.org
SUMMARY:1910 Heaton's Electric Palace cinema opened
DESCRIPTION:1910 Heaton’s Electric Palace cinema opened
URL:https://heatonhistorygroup.org/event/1910-heatons-electric-palace-cinema-opened/2025-11-21/
END:VEVENT
BEGIN:VEVENT
DTSTART;VALUE=DATE:20251126
DTEND;VALUE=DATE:20251127
DTSTAMP:20260424T111241
CREATED:20230506T103709Z
LAST-MODIFIED:20230507T113354Z
UID:10000091-1764115200-1764201599@heatonhistorygroup.org
SUMMARY:1810 William (later Lord) Armstrong born
DESCRIPTION:1810 William (later Lord) Armstrong born
URL:https://heatonhistorygroup.org/event/1810-william-later-lord-armstrong-born/2025-11-26/
END:VEVENT
BEGIN:VEVENT
DTSTART;VALUE=DATE:20251207
DTEND;VALUE=DATE:20251208
DTSTAMP:20260424T111241
CREATED:20230903T145401Z
LAST-MODIFIED:20230903T145809Z
UID:10001487-1765065600-1765151999@heatonhistorygroup.org
SUMMARY:1299 King Edward I visited Heaton
DESCRIPTION:1299 King Edward I visited Heaton
URL:https://heatonhistorygroup.org/event/1299-king-edward-i-visited-heaton/2025-12-07/
END:VEVENT
BEGIN:VEVENT
DTSTART;VALUE=DATE:20251212
DTEND;VALUE=DATE:20251213
DTSTAMP:20260424T111241
CREATED:20230506T104144Z
LAST-MODIFIED:20230507T112952Z
UID:10000096-1765497600-1765583999@heatonhistorygroup.org
SUMMARY:2015 Elsie Tu died
DESCRIPTION:2015 Elsie Tu died
URL:https://heatonhistorygroup.org/event/2015-elsie-tu-died/2025-12-12/
END:VEVENT
BEGIN:VEVENT
DTSTART;VALUE=DATE:20251218
DTEND;VALUE=DATE:20251219
DTSTAMP:20260424T111241
CREATED:20230506T104259Z
LAST-MODIFIED:20230507T113151Z
UID:10000101-1766016000-1766102399@heatonhistorygroup.org
SUMMARY:1938 Chas Chandler born
DESCRIPTION:1938 Chas Chandler born
URL:https://heatonhistorygroup.org/event/1938-chas-chandler-born/2025-12-18/
END:VEVENT
END:VCALENDAR